BEGIN:VCALENDAR
VERSION:2.0
PRODID:-// - ECPv4.5.10//NONSGML v1.0//EN
CALSCALE:GREGORIAN
METHOD:PUBLISH
X-WR-CALNAME:
X-ORIGINAL-URL:https://preservecraig.org
X-WR-CALDESC:Events for 
BEGIN:VEVENT
DTSTART;TZID=UTC-5:20150707T183000
DTEND;TZID=UTC-5:20150707T200000
DTSTAMP:20260425T015137
CREATED:20150616T230926Z
LAST-MODIFIED:20150616T230926Z
UID:486-1436293800-1436299200@preservecraig.org
SUMMARY:Steering Committee Meeting - Open to Public
DESCRIPTION:Preserve Craig’s Steering Committee will host a monthly meeting that is open to the public the first Tuesday of every month at Hutch on Main in downtown New Castle. \nMeet your neighbors\, share your ideas and have some free desserts! \n
URL:https://preservecraig.org/event/steering-committee-meeting/
END:VEVENT
END:VCALENDAR