BEGIN:VCALENDAR
VERSION:2.0
PRODID:-// - ECPv4.5.10//NONSGML v1.0//EN
CALSCALE:GREGORIAN
METHOD:PUBLISH
X-WR-CALNAME:
X-ORIGINAL-URL:https://preservecraig.org
X-WR-CALDESC:Events for 
BEGIN:VEVENT
DTSTART;TZID=UTC-5:20260303T180000
DTEND;TZID=UTC-5:20260303T190000
DTSTAMP:20260423T085534
CREATED:20260221T165454Z
LAST-MODIFIED:20260221T165607Z
UID:1514-1772560800-1772564400@preservecraig.org
SUMMARY:Preserve Craig meeting
DESCRIPTION:\nMarch 3\, 2026 Preserve Craig meeting\, Bibo’s Pizza 6 pm\n\n
URL:https://preservecraig.org/event/preserve-craig-meeting/
END:VEVENT
END:VCALENDAR