BEGIN:VCALENDAR
VERSION:2.0
PRODID:-// - ECPv4.5.10//NONSGML v1.0//EN
CALSCALE:GREGORIAN
METHOD:PUBLISH
X-WR-CALNAME:
X-ORIGINAL-URL:https://preservecraig.org
X-WR-CALDESC:Events for 
BEGIN:VEVENT
DTSTART;TZID=UTC-5:20151110T183000
DTEND;TZID=UTC-5:20151110T183000
DTSTAMP:20260424T103252
CREATED:20151023T191123Z
LAST-MODIFIED:20151023T191123Z
UID:630-1447180200-1447180200@preservecraig.org
SUMMARY:Preserve Craig Community Meeting
DESCRIPTION:Preserve Craig will host this monthly meeting that is open to the public the first Tuesday of every month at the Simmonsville Firehouse. \nCome meet your neighbors and share your ideas! \n
URL:https://preservecraig.org/event/preserve-craig-community-meeting-3/
END:VEVENT
END:VCALENDAR