BEGIN:VCALENDAR
VERSION:2.0
PRODID:-// - ECPv4.5.10//NONSGML v1.0//EN
CALSCALE:GREGORIAN
METHOD:PUBLISH
X-WR-CALNAME:
X-ORIGINAL-URL:https://preservecraig.org
X-WR-CALDESC:Events for 
BEGIN:VEVENT
DTSTART;TZID=UTC-5:20151006T183000
DTEND;TZID=UTC-5:20151006T200000
DTSTAMP:20260424T131539
CREATED:20150922T214336Z
LAST-MODIFIED:20150922T214336Z
UID:622-1444156200-1444161600@preservecraig.org
SUMMARY:Preserve Craig Community Meeting
DESCRIPTION:Preserve Craig will host this monthly meeting that is open to the public the first Tuesday of every month at Hutch on Main in downtown New Castle. \nCome meet your neighbors and share your ideas! \n
URL:https://preservecraig.org/event/preserve-craig-community-meeting-2/
END:VEVENT
END:VCALENDAR