BEGIN:VCALENDAR
VERSION:2.0
PRODID:-// - ECPv4.5.10//NONSGML v1.0//EN
CALSCALE:GREGORIAN
METHOD:PUBLISH
X-WR-CALNAME:
X-ORIGINAL-URL:https://preservecraig.org
X-WR-CALDESC:Events for 
BEGIN:VEVENT
DTSTART;TZID=UTC-5:20161013T190000
DTEND;TZID=UTC-5:20161013T210000
DTSTAMP:20260424T055002
CREATED:20160930T201548Z
LAST-MODIFIED:20160930T201548Z
UID:683-1476385200-1476392400@preservecraig.org
SUMMARY:PMCVA Community Meeting
DESCRIPTION:Stop by and support our friends over at Preserve Montgomery County VA (PMCVA) during their Community Meeting in Blacksburg. \n
URL:https://preservecraig.org/event/pmcva-community-meeting/
END:VEVENT
END:VCALENDAR