BEGIN:VCALENDAR
VERSION:2.0
PRODID:-// - ECPv4.5.10//NONSGML v1.0//EN
CALSCALE:GREGORIAN
METHOD:PUBLISH
X-WR-CALNAME:
X-ORIGINAL-URL:https://preservecraig.org
X-WR-CALDESC:Events for 
BEGIN:VEVENT
DTSTART;TZID=UTC-5:20151003T090000
DTEND;TZID=UTC-5:20151003T170000
DTSTAMP:20260424T142940
CREATED:20150922T213924Z
LAST-MODIFIED:20150922T213924Z
UID:620-1443862800-1443891600@preservecraig.org
SUMMARY:Pembroke Heritage Festival
DESCRIPTION:Pipeline opposition groups Preserve Craig and Preserve Giles will have informational tables at this day long heritage festival that also features live music\, craft vendors\, food vendors and more. We hope to see you there! \n
URL:https://preservecraig.org/event/pembroke-heritage-festival/
END:VEVENT
END:VCALENDAR