BEGIN:VCALENDAR
VERSION:2.0
PRODID:-// - ECPv4.5.10//NONSGML v1.0//EN
CALSCALE:GREGORIAN
METHOD:PUBLISH
X-WR-CALNAME:
X-ORIGINAL-URL:https://preservecraig.org
X-WR-CALDESC:Events for 
BEGIN:VEVENT
DTSTART;TZID=UTC-5:20161103T160000
DTEND;TZID=UTC-5:20161103T200000
DTSTAMP:20260424T023806
CREATED:20161028T195853Z
LAST-MODIFIED:20161028T195853Z
UID:716-1478188800-1478203200@preservecraig.org
SUMMARY:Mountain Valley Pipeline Public Comments Session
DESCRIPTION:Hearings on the Draft Environmental Impact Statement (DEIS) for the Mountain Valley Pipeline will be held by the Federal Energy Regulatory Commission (FERC) in Roanoke on Thursday\, November 3\, 2016. The hearings are an important phase in the review process for the pipeline under the National Environmental Policy Act. During these meetings\, there will be opportunities to give verbal or written comments to FERC. \nAll community hearings begin at 4:00 PM. Official FERC listening sessions start at 5:00 pm and end by 10:00 pm. You can help by attending one of these meetings and showing your opposition to the MVP. This is your chance to submit comments and let FERC know how you feel about the pipeline coming to your community. \nClick here for more information. \n
URL:https://preservecraig.org/event/mountain-valley-pipeline-public-comments-session/
END:VEVENT
END:VCALENDAR