BEGIN:VCALENDAR
VERSION:2.0
PRODID:-// - ECPv4.5.10//NONSGML v1.0//EN
CALSCALE:GREGORIAN
METHOD:PUBLISH
X-WR-CALNAME:
X-ORIGINAL-URL:https://preservecraig.org
X-WR-CALDESC:Events for 
BEGIN:VEVENT
DTSTART;TZID=UTC-5:20150707T130000
DTEND;TZID=UTC-5:20150707T140000
DTSTAMP:20260425T031059
CREATED:20150701T213228Z
LAST-MODIFIED:20150701T213228Z
UID:563-1436274000-1436277600@preservecraig.org
SUMMARY:Kaine Connects
DESCRIPTION:Senator Kaine’s staff person\, Gwen Mason\, is coming to New Castle to meet with constituents at the County Administrator’s office.  Preserve Craig has already made an appointment to meet during this time.  Anyone who wishes to join us can come during that time or if you would like to make an individual appointment\, you need to RSVP to Gwen_Mason@kaine.senate.gov \n
URL:https://preservecraig.org/event/kaine-connects/
END:VEVENT
END:VCALENDAR