BEGIN:VCALENDAR
VERSION:2.0
PRODID:-// - ECPv4.5.10//NONSGML v1.0//EN
CALSCALE:GREGORIAN
METHOD:PUBLISH
X-WR-CALNAME:
X-ORIGINAL-URL:https://preservecraig.org
X-WR-CALDESC:Events for 
BEGIN:VEVENT
DTSTART;TZID=UTC-5:20150818T171500
DTEND;TZID=UTC-5:20150818T171500
DTSTAMP:20260424T215343
CREATED:20150716T155341Z
LAST-MODIFIED:20150716T155341Z
UID:574-1439918100-1439918100@preservecraig.org
SUMMARY:Hands Across our Land
DESCRIPTION:This is a multi-state event to show opposition to the MVP\, ACP\, and various pipeline projects in the region.  Events will be held in each county.  See https://www.facebook.com/events/788279407936649/ for more information. \nPreserve Craig supporters will meet in front of the Preserve Craig office on Main Street in New Castle at 5:15 PM. \n
URL:https://preservecraig.org/event/hands-across-our-land/
END:VEVENT
END:VCALENDAR