BEGIN:VCALENDAR
VERSION:2.0
PRODID:-// - ECPv4.5.10//NONSGML v1.0//EN
CALSCALE:GREGORIAN
METHOD:PUBLISH
X-WR-CALNAME:
X-ORIGINAL-URL:https://preservecraig.org
X-WR-CALDESC:Events for 
BEGIN:VEVENT
DTSTART;TZID=UTC-5:20161012T180000
DTEND;TZID=UTC-5:20161012T180000
DTSTAMP:20260424T070339
CREATED:20160930T202612Z
LAST-MODIFIED:20160930T202612Z
UID:691-1476295200-1476295200@preservecraig.org
SUMMARY:Forum on Natural Gas Pipelines
DESCRIPTION:DO WE NEED THEM? AT WHAT COST? \nThis forum is free and open to the public.  The program will be moderated by Rupert Cutler.  Presenters will include: \n\nVirginia Tech faculty involved in development of “An Expert Report on the Geologic Hazards in the Karst Regions of Virginia and West Virginia: Investigations and Analysis Concerning the Proposed Mount Valley Gas Pipeline”\nSpencer Phillips\, PhD\, lead author of “Economic Costs of the Mountain Valley Pipeline: Effects on Property Value\, Ecosystem Services and Economic Development in Virginia and West Virginia”\n\nRoanoke College students will display research projects related to the MVP in the lobby prior to the event\, starting at 5:40 p.m. and refreshments will be served. Both supporters and opponents of the project have been invited to speak. Audience members who wish to speak will have a chance at the end of the event. \nQuestions? Contact Valerie Banschbach\, Chair\, Environmental Studies\, Roanoke College\, banschbach@roanoke.edu or (540) 375-4906. \nDownload a flyer for this event here. \n
URL:https://preservecraig.org/event/forum-on-natural-gas-pipelines/
END:VEVENT
END:VCALENDAR