BEGIN:VCALENDAR
VERSION:2.0
PRODID:-// - ECPv4.5.10//NONSGML v1.0//EN
CALSCALE:GREGORIAN
METHOD:PUBLISH
X-WR-CALNAME:
X-ORIGINAL-URL:https://preservecraig.org
X-WR-CALDESC:Events for 
BEGIN:VEVENT
DTSTART;TZID=UTC-5:20150926T140000
DTEND;TZID=UTC-5:20150926T140000
DTSTAMP:20260424T180802
CREATED:20150825T204725Z
LAST-MODIFIED:20150825T204725Z
UID:596-1443276000-1443276000@preservecraig.org
SUMMARY:Flatline the Pipeline Festival
DESCRIPTION:THIS IS A FREE EVENT!  \nCome celebrate our cause to Flatline the Pipeline! There will be local musicians\, vendors\, artisans and food trucks.  \nOur goal is to unite surrounding communities\, educate the public\, and raise awareness. \nClick here for more information. \n
URL:https://preservecraig.org/event/flatline-the-pipeline-festival/
END:VEVENT
END:VCALENDAR