BEGIN:VCALENDAR
VERSION:2.0
PRODID:-// - ECPv4.5.10//NONSGML v1.0//EN
CALSCALE:GREGORIAN
METHOD:PUBLISH
X-WR-CALNAME:
X-ORIGINAL-URL:https://preservecraig.org
X-WR-CALDESC:Events for 
BEGIN:VEVENT
DTSTART;TZID=UTC-5:20150602T090000
DTEND;TZID=UTC-5:20150602T090000
DTSTAMP:20260425T142919
CREATED:20150528T230950Z
LAST-MODIFIED:20150528T230950Z
UID:471-1433235600-1433235600@preservecraig.org
SUMMARY:EQT Surveyor's Arraignment
DESCRIPTION:Two surveyors working for EQT on the Forest Service survey\, Josiah Gregor Kleinhens and Lawrence Brewer of Cincinnati\, Ohio were charged with trespass on May 26. They claim to be employees of ESI under orders from EQT but the truck was unmarked.  \nSix warrants for trespass were issued. They were released after plants in their possession were confiscated and they were interviewed by National Forest law enforcement officer John Ralph Price.   \nThey had left one rented vehicle hidden behind what they thought was an unoccupied cabin in the deepest part of Foxfire\, near the National Forest line and taken the second vehicle to an entry point on National Forest. In order to do so\, they had used private\, clearly marked as posted no trespassing land and roads. \nThey explained that they were looking for endangered species and had been told by EQT that they had permission to survey and to remove plants from National Forest.  \n
URL:https://preservecraig.org/event/eqt-surveyors-arraignment/
END:VEVENT
END:VCALENDAR