BEGIN:VCALENDAR
VERSION:2.0
PRODID:-// - ECPv4.5.10//NONSGML v1.0//EN
CALSCALE:GREGORIAN
METHOD:PUBLISH
X-WR-CALNAME:
X-ORIGINAL-URL:https://preservecraig.org
X-WR-CALDESC:Events for 
BEGIN:VEVENT
DTSTART;TZID=UTC-5:20161008T090000
DTEND;TZID=UTC-5:20161008T160000
DTSTAMP:20260424T082529
CREATED:20160930T201030Z
LAST-MODIFIED:20160930T201030Z
UID:678-1475917200-1475942400@preservecraig.org
SUMMARY:Craig County Fall Festival
DESCRIPTION:Be sure to stop by our booth at the Fall Festival! \nWe’ll be selling 2017 Preserve Craig Calendars.  These will make perfect gifts to showcase the beauty of our special place! \n
URL:https://preservecraig.org/event/craig-county-fall-festival-2/
END:VEVENT
END:VCALENDAR