BEGIN:VCALENDAR
VERSION:2.0
PRODID:-// - ECPv4.5.10//NONSGML v1.0//EN
CALSCALE:GREGORIAN
METHOD:PUBLISH
X-WR-CALNAME:
X-ORIGINAL-URL:https://preservecraig.org
X-WR-CALDESC:Events for 
BEGIN:VEVENT
DTSTART;TZID=UTC-5:20171005T180000
DTEND;TZID=UTC-5:20171005T200000
DTSTAMP:20260424T012634
CREATED:20170923T205238Z
LAST-MODIFIED:20170923T205238Z
UID:898-1507226400-1507233600@preservecraig.org
SUMMARY:Craig County Board of Supervisors meeting Oct. 5th
DESCRIPTION:
URL:https://preservecraig.org/event/craig-county-board-of-supervisors-meeting-10-05/
CATEGORIES:CC_Bd_Supervisors
END:VEVENT
END:VCALENDAR