BEGIN:VCALENDAR
VERSION:2.0
PRODID:-// - ECPv4.5.10//NONSGML v1.0//EN
CALSCALE:GREGORIAN
METHOD:PUBLISH
X-WR-CALNAME:
X-ORIGINAL-URL:https://preservecraig.org
X-WR-CALDESC:Events for 
BEGIN:VEVENT
DTSTART;TZID=UTC-5:20151105T173000
DTEND;TZID=UTC-5:20151105T173000
DTSTAMP:20260424T105422
CREATED:20151023T201839Z
LAST-MODIFIED:20151023T201839Z
UID:636-1446744600-1446744600@preservecraig.org
SUMMARY:Craig Co. Board of Supervisors Meeting
DESCRIPTION:This meeting will be held in the Courthouse Court Room.  \nAll citizens are welcome to attend. You must call or schedule 10 days prior to the meeting date if you are interested in presenting an issue to the Board of Supervisors. \n
URL:https://preservecraig.org/event/craig-co-board-of-supervisors-meeting-5/
END:VEVENT
END:VCALENDAR