BEGIN:VCALENDAR
VERSION:2.0
PRODID:-// - ECPv4.5.10//NONSGML v1.0//EN
CALSCALE:GREGORIAN
METHOD:PUBLISH
X-WR-CALNAME:
X-ORIGINAL-URL:https://preservecraig.org
X-WR-CALDESC:Events for 
BEGIN:VEVENT
DTSTART;TZID=UTC-5:20150514T190000
DTEND;TZID=UTC-5:20150514T210000
DTSTAMP:20260425T181225
CREATED:20150501T185151Z
LAST-MODIFIED:20150501T185151Z
UID:398-1431630000-1431637200@preservecraig.org
SUMMARY:Community Meeting - Forks of Johns Creek Christian Church
DESCRIPTION:Preserve Craig is sponsoring 3 local gatherings to collect environmental and cultural data. Mapping of caves\, sinkholes\, cemeteries\, springs\, historical artifacts\, endangered plants\, and cultural attachment bonds is an important piece of our preservation work! \nLandowners on and near the route are especially encouraged to attend at least one Community Meeting. Everyone is welcome! There will be light refreshments and a door prize\, so stop on by! \n
URL:https://preservecraig.org/event/community-meeting-forks-of-johns-creek-church/
END:VEVENT
END:VCALENDAR